BEGIN:VCALENDAR
VERSION:2.0
PRODID:-//Tukios.com/
BEGIN:VEVENT
UID:ffaab816-069f-4456-9c2d-94808a727339@www.pmgfc.com
DTSTAMP:20260423T161151Z
DTSTART:20260423T180000Z
DTEND:20260423T190000Z
SUMMARY:Funeral Service
DESCRIPTION:
URL:https://www.pmgfc.com/obituaries/mabel-pollock
LOCATION:Preble Memory Gardens Funeral Center 3377 US Rt. 35 E.  West 
	Alexandria OH 45381
GEO:39.7447828;-84.5731101
END:VEVENT
END:VCALENDAR