BEGIN:VCALENDAR
VERSION:2.0
PRODID:-//Tukios.com/
BEGIN:VEVENT
UID:819c3186-6da0-4ad0-961a-f3c7608d7652@www.pmgfc.com
DTSTAMP:20260423T160900Z
DTSTART:20260423T160000Z
DTEND:20260423T180000Z
SUMMARY:Visitation
DESCRIPTION:
URL:https://www.pmgfc.com/obituaries/mabel-pollock
LOCATION:Preble Memory Gardens Funeral Center 3377 US Rt. 35 E.  West 
	Alexandria OH 45381
GEO:39.7447828;-84.5731101
END:VEVENT
END:VCALENDAR